BEGIN:VCALENDAR
VERSION:2.0
PRODID:-//Woodridge Music Studio - ECPv5.10.0//NONSGML v1.0//EN
CALSCALE:GREGORIAN
METHOD:PUBLISH
X-WR-CALNAME:Woodridge Music Studio
X-ORIGINAL-URL:https://www.woodridgemusicstudio.com
X-WR-CALDESC:Events for Woodridge Music Studio
BEGIN:VTIMEZONE
TZID:UTC
BEGIN:STANDARD
TZOFFSETFROM:+0000
TZOFFSETTO:+0000
TZNAME:UTC
DTSTART:20240101T000000
END:STANDARD
END:VTIMEZONE
BEGIN:VEVENT
DTSTART;VALUE=DATE:20241127
DTEND;VALUE=DATE:20241130
DTSTAMP:20260423T064939
CREATED:20240604T135858Z
LAST-MODIFIED:20240604T135858Z
UID:4582-1732665600-1732924799@www.woodridgemusicstudio.com
SUMMARY:Closed for Thanksgiving
DESCRIPTION:
URL:https://www.woodridgemusicstudio.com/calendar/closed-for-thanksgiving/
END:VEVENT
BEGIN:VEVENT
DTSTART;TZID=UTC:20241213T080000
DTEND;TZID=UTC:20241213T170000
DTSTAMP:20260423T064939
CREATED:20240604T135925Z
LAST-MODIFIED:20240604T135925Z
UID:4584-1734076800-1734109200@www.woodridgemusicstudio.com
SUMMARY:Christmas Recital
DESCRIPTION:
URL:https://www.woodridgemusicstudio.com/calendar/christmas-recital/
END:VEVENT
BEGIN:VEVENT
DTSTART;TZID=UTC:20241214T080000
DTEND;TZID=UTC:20241214T170000
DTSTAMP:20260423T064939
CREATED:20240604T135948Z
LAST-MODIFIED:20240604T135948Z
UID:4586-1734163200-1734195600@www.woodridgemusicstudio.com
SUMMARY:Cookie Stroll
DESCRIPTION:
URL:https://www.woodridgemusicstudio.com/calendar/cookie-stroll/
END:VEVENT
BEGIN:VEVENT
DTSTART;VALUE=DATE:20241223
DTEND;VALUE=DATE:20250104
DTSTAMP:20260423T064939
CREATED:20240604T140029Z
LAST-MODIFIED:20240604T140029Z
UID:4588-1734912000-1735948799@www.woodridgemusicstudio.com
SUMMARY:Closed for Christmas Break
DESCRIPTION:
URL:https://www.woodridgemusicstudio.com/calendar/closed-for-christmas-break/
END:VEVENT
BEGIN:VEVENT
DTSTART;VALUE=DATE:20241223
DTEND;VALUE=DATE:20250104
DTSTAMP:20260423T064939
CREATED:20240604T134544Z
LAST-MODIFIED:20240604T135140Z
UID:4548-1734912000-1735948799@www.woodridgemusicstudio.com
SUMMARY:Closed for Christmas Break
DESCRIPTION:
URL:https://www.woodridgemusicstudio.com/calendar/summer-session-i-begins/
END:VEVENT
END:VCALENDAR